BEGIN:VCALENDAR
VERSION:2.0
PRODID:-//ChamberMaster//Event Calendar 2.0//EN
METHOD:PUBLISH
X-PUBLISHED-TTL:P1H
REFRESH-INTERVAL:P1H
CALSCALE:GREGORIAN
BEGIN:VTIMEZONE
TZID:America/New_York
BEGIN:DAYLIGHT
RRULE:FREQ=YEARLY;BYMONTH=3;BYDAY=2SU
DTSTART:20070101T000000
TZOFFSETFROM:-0500
TZOFFSETTO:-0400
TZNAME:Eastern Daylight Time
END:DAYLIGHT
BEGIN:STANDARD
RRULE:FREQ=YEARLY;BYMONTH=11;BYDAY=1SU
DTSTART:20070101T000000
TZOFFSETFROM:-0400
TZOFFSETTO:-0500
TZNAME:Eastern Standard Time
END:STANDARD
END:VTIMEZONE
BEGIN:VEVENT
DTSTART;VALUE=DATE:20260526
DTEND;VALUE=DATE:20260528
TRANSP:TRANSPARENT
X-MICROSOFT-CDO-ALLDAYEVENT:TRUE
SUMMARY:Retail Technology 2026 - VRARA Sweden
DESCRIPTION:VRARA Sweden has secured a strategic partnership with Retail Technology 2026\, the leading Nordic trade fair and conference focused on the future of retail. The event brings together enterprise brands\, technology providers\, startups\, investors\, and innovators to explore how emerging technologies are transforming commerce.As part of this collaboration\, VRARA Sweden will feature a dedicated XR & Immersive Technology speaking panel\, high-visibility branding across official event channels\, a VRARA community meetup space on site\, complimentary passes and special access for members\, and post-event media coverage highlighting XR use cases in retail and commerce.This partnership reflects VRARA Sweden's growing influence across the Nordic XR ecosystem and positions immersive technologies at the center of retail innovation.
X-ALT-DESC;FMTTYPE=text/html:<!DOCTYPE html><html><head><title></title></head><body aria-disabled="false"><p data-end="556" data-start="212">VRARA Sweden has secured a strategic partnership with <a fr-original-style="" href="https://retailexpostockholm.se/" rel="noopener noreferrer" style="user-select: auto\;" target="_blank"><strong data-end="310" data-start="284" fr-original-style="" style="font-weight: 700\;">Retail Technology 2026</strong></a>\, the leading Nordic trade fair and conference focused on the future of retail. The event brings together enterprise brands\, technology providers\, startups\, investors\, and innovators to explore how emerging technologies are transforming commerce.</p><p data-end="902" data-start="558">As part of this collaboration\, VRARA Sweden will feature a dedicated <strong data-end="671" data-start="627" fr-original-style="" style="font-weight: 700\;">XR &amp\; Immersive Technology speaking panel</strong>\, high-visibility branding across official event channels\, a VRARA community meetup space on site\, complimentary passes and special access for members\, and post-event media coverage highlighting XR use cases in retail and commerce.</p><p data-end="1066" data-start="904">This partnership reflects VRARA Sweden&rsquo\;s growing influence across the Nordic XR ecosystem and positions immersive technologies at the center of retail innovation.</p></body></html>
LOCATION:Stockholm
UID:e.4082.1379620
SEQUENCE:3
DTSTAMP:20260422T233810Z
URL:https://thevrarassociationllc.growthzoneapp.com/chicago-chapter-calendar/Details/retail-technology-2026-vrara-sweden-1629310?sourceTypeId=Hub
END:VEVENT
END:VCALENDAR
